BEGIN:VCALENDAR
VERSION:2.0
PRODID:-//Kulvio Event Calendar//kulvio.de//
CALSCALE:GREGORIAN
METHOD:PUBLISH
BEGIN:VEVENT
SUMMARY:Frankfurt Coffee Festival 2026 – Sonntag
DTSTART:20260920T080000Z
DTEND:20260920T160000Z
DTSTAMP:20260421T041934Z
UID:kulvio-event-3203@kulvio.de
CATEGORIES:Food-Festival,Messe
CREATED:20260420T074552Z
DESCRIPTION:Der dritte und letzte Tag des Frankfurt Coffee Festival in der
  Klassikstadt bietet noch einmal die Gelegenheit\, über 90 Aussteller aus
  der Kaffeebranche zu besuchen. Das Programm umfasst Workshops\, Tastings 
 und Wettbewerbe für Profis und Hobbybaristas gleichermaßen. Die Klassiks
 tadt in Frankfurt-Fechenheim ist mit ihrer industriellen Hallen-Architektu
 r eine etablierte Veranstaltungslocation im Frankfurter Osten.
GEO:50.13193;8.755128
LAST-MODIFIED:20260420T104409Z
LOCATION:Klassikstadt\, Orber Straße 4a\, 60386\, Frankfurt am Main
STATUS:CONFIRMED
URL:https://kulvio.de/event/3203
END:VEVENT
END:VCALENDAR
