BEGIN:VCALENDAR
VERSION:2.0
PRODID:-//Kulvio Event Calendar//kulvio.de//
CALSCALE:GREGORIAN
METHOD:PUBLISH
BEGIN:VEVENT
SUMMARY:Frankfurt liest ein Buch – Marie Luise Kaschnitz im Kunstverein 
 Familie Montez
DTSTART:20260424T160000Z
DTEND:20260424T170000Z
DTSTAMP:20260421T042803Z
UID:kulvio-event-3204@kulvio.de
CATEGORIES:Lesung
CREATED:20260420T074619Z
DESCRIPTION:Im Rahmen der stadtweiten Aktion Frankfurt liest ein Buch find
 et im Kunstverein Familie Montez eine Veranstaltung zu Marie Luise Kaschni
 tz statt. Das Format bringt Literatur an ungewöhnliche Orte in der ganzen
  Stadt und lädt zum gemeinsamen Lesen und Diskutieren ein. Der Kunstverei
 n an der Honsellstraße im Frankfurter Ostend bietet mit seinen Ausstellun
 gsräumen einen besonderen Rahmen für die literarische Begegnung. Beginn 
 ist um 18 Uhr\, der Eintritt ist frei.
GEO:50.108303;8.710053
LAST-MODIFIED:20260420T104409Z
LOCATION:Montez\, Honsellstraße 7\, 60314\, Frankfurt am Main
STATUS:CONFIRMED
URL:https://kulvio.de/event/3204
END:VEVENT
END:VCALENDAR
