BEGIN:VCALENDAR
VERSION:2.0
PRODID:-//Kulvio Event Calendar//kulvio.de//
CALSCALE:GREGORIAN
METHOD:PUBLISH
BEGIN:VEVENT
SUMMARY:Endpole der Menschenwürde – Ausstellung von Peter Seidel
DTSTART:20260430T110000Z
DTEND:20260531T170000Z
DTSTAMP:20260421T042121Z
UID:kulvio-event-3205@kulvio.de
CATEGORIES:Ausstellung
CREATED:20260420T074619Z
DESCRIPTION:Der Kunstverein Familie Montez zeigt ab dem 30. April die Auss
 tellung Endpole der Menschenwürde des Künstlers Peter Seidel. Die Schau 
 ist bis Ende Mai in den Räumen des Kunstvereins an der Honsellstraße im 
 Frankfurter Ostend zu sehen. Der Kunstverein Familie Montez ist ein gemein
 nütziger Verein\, der sich der Präsentation zeitgenössischer Kunst widm
 et und regelmäßig wechselnde Ausstellungen\, Performances und Veranstalt
 ungen organisiert. Geöffnet ist dienstags bis sonntags von 13 bis 19 Uhr.
GEO:50.108303;8.710053
LAST-MODIFIED:20260420T104409Z
LOCATION:Montez\, Honsellstraße 7\, 60314\, Frankfurt am Main
STATUS:CONFIRMED
URL:https://kulvio.de/event/3205
END:VEVENT
END:VCALENDAR
