BEGIN:VCALENDAR
VERSION:2.0
PRODID:-//Kulvio Event Calendar//kulvio.de//
CALSCALE:GREGORIAN
METHOD:PUBLISH
BEGIN:VEVENT
SUMMARY:JOY WAS THE HARDEST PIECE – Ausstellung von Daniel Hörl
DTSTART:20260502T110000Z
DTEND:20260531T170000Z
DTSTAMP:20260421T042123Z
UID:kulvio-event-3206@kulvio.de
CATEGORIES:Ausstellung
CREATED:20260420T074619Z
DESCRIPTION:Die Ausstellung JOY WAS THE HARDEST PIECE von Daniel Hörl ist
  ab dem 2. Mai im Kunstverein Familie Montez zu sehen. Die Schau läuft pa
 rallel zu Endpole der Menschenwürde und kann bis Ende Mai besucht werden.
  Der Kunstverein an der Honsellstraße im Frankfurter Ostend zeigt in sein
 en Räumen regelmäßig zeitgenössische Kunst und ist dienstags bis sonnt
 ags von 13 bis 19 Uhr geöffnet.
GEO:50.108303;8.710053
LAST-MODIFIED:20260420T104409Z
LOCATION:Montez\, Honsellstraße 7\, 60314\, Frankfurt am Main
STATUS:CONFIRMED
URL:https://kulvio.de/event/3206
END:VEVENT
END:VCALENDAR
