BEGIN:VCALENDAR
VERSION:2.0
PRODID:-//Kulvio Event Calendar//kulvio.de//
CALSCALE:GREGORIAN
METHOD:PUBLISH
BEGIN:VEVENT
SUMMARY:MELLI REDET MIT im Kunstverein Familie Montez
DTSTART:20260516T180000Z
DTEND:20260516T190000Z
DTSTAMP:20260421T041933Z
UID:kulvio-event-3207@kulvio.de
CATEGORIES:Show
CREATED:20260420T074619Z
DESCRIPTION:Das Veranstaltungsformat MELLI REDET MIT findet am 16. Mai um 
 20 Uhr im Kunstverein Familie Montez statt. Die Reihe bringt Gespräche un
 d Austausch in die Räumlichkeiten des Kunstvereins an der Honsellstraße 
 im Frankfurter Ostend. Der Kunstverein Familie Montez ist ein gemeinnützi
 ger Verein\, der neben Ausstellungen auch regelmäßig Veranstaltungen wie
  Vortragsreihen\, Performances und Gesprächsformate organisiert.
GEO:50.108303;8.710053
LAST-MODIFIED:20260420T104409Z
LOCATION:Montez\, Honsellstraße 7\, 60314\, Frankfurt am Main
STATUS:CONFIRMED
URL:https://kulvio.de/event/3207
END:VEVENT
END:VCALENDAR
