BEGIN:VCALENDAR
VERSION:2.0
PRODID:-//Kulvio Event Calendar//kulvio.de//
CALSCALE:GREGORIAN
METHOD:PUBLISH
BEGIN:VEVENT
SUMMARY:Come Closer – Ausstellung von Christopher Knaus
DTSTART:20260605T110000Z
DTEND:20260705T170000Z
DTSTAMP:20260421T042008Z
UID:kulvio-event-3208@kulvio.de
CATEGORIES:Ausstellung
CREATED:20260420T074619Z
DESCRIPTION:Ab dem 5. Juni zeigt der Kunstverein Familie Montez die Ausste
 llung Come Closer des Künstlers Christopher Knaus. Die Schau ist bis zum 
 5. Juli in den Räumen des Kunstvereins an der Honsellstraße im Frankfurt
 er Ostend zu sehen. Die Eröffnung findet am Abend des 5. Juni um 19 Uhr s
 tatt. Der Kunstverein ist dienstags bis sonntags von 13 bis 19 Uhr geöffn
 et.
GEO:50.108303;8.710053
LAST-MODIFIED:20260420T104409Z
LOCATION:Montez\, Honsellstraße 7\, 60314\, Frankfurt am Main
STATUS:CONFIRMED
URL:https://kulvio.de/event/3208
END:VEVENT
END:VCALENDAR
