BEGIN:VCALENDAR
VERSION:2.0
PRODID:-//Kulvio Event Calendar//kulvio.de//
CALSCALE:GREGORIAN
METHOD:PUBLISH
BEGIN:VEVENT
SUMMARY:DAS ALTE HAUS – Ausstellung von Yury Kharchenko & Vitaly Komar
DTSTART:20260605T110000Z
DTEND:20260705T170000Z
DTSTAMP:20260421T042121Z
UID:kulvio-event-3209@kulvio.de
CATEGORIES:Ausstellung
CREATED:20260420T074619Z
DESCRIPTION:Der Kunstverein Familie Montez präsentiert ab dem 5. Juni die
  Ausstellung DAS ALTE HAUS mit Arbeiten von Yury Kharchenko und Vitaly Kom
 ar. Die Schau läuft parallel zur Ausstellung Come Closer und ist bis zum 
 5. Juli zu sehen. Die Eröffnung beider Ausstellungen findet am 5. Juni um
  19 Uhr statt. Der Kunstverein an der Honsellstraße im Frankfurter Ostend
  widmet sich der zeitgenössischen Kunst und zeigt regelmäßig wechselnde
  Einzel- und Gruppenausstellungen.
GEO:50.108303;8.710053
LAST-MODIFIED:20260420T104409Z
LOCATION:Montez\, Honsellstraße 7\, 60314\, Frankfurt am Main
STATUS:CONFIRMED
URL:https://kulvio.de/event/3209
END:VEVENT
END:VCALENDAR
