BEGIN:VCALENDAR
VERSION:2.0
PRODID:-//Kulvio Event Calendar//kulvio.de//
CALSCALE:GREGORIAN
METHOD:PUBLISH
BEGIN:VEVENT
SUMMARY:Enchanted: Bosque Magico – Grand Opening Gateway Gardens Ocean C
 lub
DTSTART:20260502T130000Z
DTEND:20260502T140000Z
DTSTAMP:20260421T042009Z
UID:kulvio-event-3210@kulvio.de
CATEGORIES:Club,Party,Open-Air
CREATED:20260420T074635Z
DESCRIPTION:Der Gateway Gardens Ocean Club eröffnet die Saison 2026 mit d
 em Grand Opening unter dem Motto Enchanted: Bosque Magico. An den Decks st
 ehen Claptone\, Vanco und Mikey Dastinz Jr. Der Open-Air-Club in Gateway G
 ardens nahe dem Frankfurter Flughafen bietet Sandstrand\, Palmen und ein l
 eistungsstarkes Sound-System. Die Location verwandelt sich an Wochenenden 
 in eine der größten Party-Locations der Region. Der Gateway Gardens Ocea
 n Club liegt an der Jean-Gardner-Batten-Straße.
GEO:50.056865;8.597577
LAST-MODIFIED:20260420T104409Z
LOCATION:Gateway Gardens Ocean Club\, Jean-Gardner-Batten-Straße 2\, 6054
 9\, Frankfurt am Main
STATUS:CONFIRMED
URL:https://kulvio.de/event/3210
END:VEVENT
END:VCALENDAR
