BEGIN:VCALENDAR
VERSION:2.0
PRODID:-//Kulvio Event Calendar//kulvio.de//
CALSCALE:GREGORIAN
METHOD:PUBLISH
BEGIN:VEVENT
SUMMARY:DJ Levi im Gateway Gardens Ocean Club
DTSTART:20260508T150000Z
DTEND:20260508T160000Z
DTSTAMP:20260421T042119Z
UID:kulvio-event-3211@kulvio.de
CATEGORIES:Club,Party,Open-Air
CREATED:20260420T074635Z
DESCRIPTION:DJ Levi legt im Gateway Gardens Ocean Club in Frankfurt auf. D
 er Open-Air-Club nahe dem Flughafen bietet Beachclub-Atmosphäre mit Sands
 trand und Palmen unter freiem Himmel. Unter der Woche lädt die Location a
 ls Beachbar zum Entspannen ein\, an Wochenenden wird der Club zur Partyloc
 ation mit internationalen DJs. Der Gateway Gardens Ocean Club liegt im Sta
 dtteil Gateway Gardens an der Jean-Gardner-Batten-Straße.
GEO:50.056865;8.597577
LAST-MODIFIED:20260420T104409Z
LOCATION:Gateway Gardens Ocean Club\, Jean-Gardner-Batten-Straße 2\, 6054
 9\, Frankfurt am Main
STATUS:CONFIRMED
URL:https://kulvio.de/event/3211
END:VEVENT
END:VCALENDAR
