BEGIN:VCALENDAR
VERSION:2.0
PRODID:-//Kulvio Event Calendar//kulvio.de//
CALSCALE:GREGORIAN
METHOD:PUBLISH
BEGIN:VEVENT
SUMMARY:FMC – Frankfurt Music City mit Marten Lou im Gateway Gardens Oce
 an Club
DTSTART:20260516T150000Z
DTEND:20260516T160000Z
DTSTAMP:20260421T043148Z
UID:kulvio-event-3212@kulvio.de
CATEGORIES:Club,Party,Open-Air
CREATED:20260420T074635Z
DESCRIPTION:Die Veranstaltungsreihe Frankfurt Music City bringt Marten Lou
  in den Gateway Gardens Ocean Club. Der Open-Air-Club am Frankfurter Flugh
 afen kombiniert Beachclub-Flair mit clubbigem Sound-System und bietet Plat
 z für mehrere hundert Gäste. Die FMC-Reihe bringt regelmäßig nationale
  und internationale Acts in die Location an der Jean-Gardner-Batten-Straß
 e. Der Gateway Gardens Ocean Club ist von Freitag bis Samstag bis 3 Uhr mo
 rgens geöffnet.
GEO:50.056865;8.597577
LAST-MODIFIED:20260420T104409Z
LOCATION:Gateway Gardens Ocean Club\, Jean-Gardner-Batten-Straße 2\, 6054
 9\, Frankfurt am Main
STATUS:CONFIRMED
URL:https://kulvio.de/event/3212
END:VEVENT
END:VCALENDAR
