BEGIN:VCALENDAR
VERSION:2.0
PRODID:-//Kulvio Event Calendar//kulvio.de//
CALSCALE:GREGORIAN
METHOD:PUBLISH
BEGIN:VEVENT
SUMMARY:Pink Moments – Tausend Küsse an Wanda im mal seh'n Kino
DTSTART:20260422T170000Z
DTEND:20260422T180000Z
DTSTAMP:20260421T041938Z
UID:kulvio-event-3213@kulvio.de
CATEGORIES:Kino,LGBTQIA+
CREATED:20260420T074650Z
DESCRIPTION:Die Filmreihe Pink Moments zeigt im mal seh'n Kino in Frankfur
 t-Nordend den Film Tausend Küsse an Wanda von Eva Heldmann. Die Reihe wid
 met sich der queeren Film- und Kinogeschichte Frankfurts von 1975 bis heut
 e und ist dem Filmemacher Rosa von Praunheim gewidmet. Besonders ist\, das
 s der Film an dem Ort gezeigt wird\, an dem er einst entstanden ist. Die R
 eihe wird von LUQS kuratiert und findet an verschiedenen Frankfurter Kinos
  statt.
GEO:50.124051;8.685652
LAST-MODIFIED:20260420T104409Z
LOCATION:mal seh'n Kino\, Adlerflychtstraße 6\, 60318\, Frankfurt am Main
STATUS:CONFIRMED
URL:https://kulvio.de/event/3213
END:VEVENT
END:VCALENDAR
