BEGIN:VCALENDAR
VERSION:2.0
PRODID:-//Kulvio Event Calendar//kulvio.de//
CALSCALE:GREGORIAN
METHOD:PUBLISH
BEGIN:VEVENT
SUMMARY:Pink Moments – Filme der Trans-Bewegung in der Pupille (Tag 1)
DTSTART:20260504T170000Z
DTEND:20260504T180000Z
DTSTAMP:20260421T042313Z
UID:kulvio-event-3214@kulvio.de
CATEGORIES:Kino,LGBTQIA+
CREATED:20260420T074650Z
DESCRIPTION:Die Filmreihe Pink Moments präsentiert in der Pupille\, dem K
 ino in der Goethe-Universität Frankfurt\, ein Programm mit Filmen aus der
  Trans-Bewegung. Die Reihe beleuchtet fünfzig Jahre queere Film- und Kino
 geschichte in Frankfurt und ist dem Filmemacher Rosa von Praunheim gewidme
 t. Die Pupille im Studierendenhaus der Goethe-Universität am Campus Bocke
 nheim bietet einen besonderen Rahmen für die Vorführungen. Die Veranstal
 tung wird von LUQS kuratiert.
GEO:50.118693;8.651457
LAST-MODIFIED:20260420T104409Z
LOCATION:Café KoZ\, Mertonstraße 26-28\, 60325\, Frankfurt am Main
STATUS:CONFIRMED
URL:https://kulvio.de/event/3214
END:VEVENT
END:VCALENDAR
