BEGIN:VCALENDAR
VERSION:2.0
PRODID:-//Kulvio Event Calendar//kulvio.de//
CALSCALE:GREGORIAN
METHOD:PUBLISH
BEGIN:VEVENT
SUMMARY:Pink Moments – Filme der Trans-Bewegung in der Pupille (Tag 2)
DTSTART:20260505T170000Z
DTEND:20260505T180000Z
DTSTAMP:20260421T042119Z
UID:kulvio-event-3215@kulvio.de
CATEGORIES:Kino,LGBTQIA+
CREATED:20260420T074650Z
DESCRIPTION:Am zweiten Tag zeigt die Filmreihe Pink Moments in der Pupille
  an der Goethe-Universität Frankfurt ein weiteres Programm mit Filmen aus
  der Trans-Bewegung. Die von LUQS kuratierte Reihe zur queeren Frankfurter
  Filmgeschichte wurde von den Kuratorinnen Karola Gramann und Heide Schlü
 pmann gemeinsam mit Andreas Beilharz\, Björn Schmitt und weiteren zusamme
 ngestellt. Die Pupille im Studierendenhaus am Campus Bockenheim ist eines 
 der traditionsreichsten studentischen Kinos in Frankfurt.
GEO:50.118693;8.651457
LAST-MODIFIED:20260420T104409Z
LOCATION:Café KoZ\, Mertonstraße 26-28\, 60325\, Frankfurt am Main
STATUS:CONFIRMED
URL:https://kulvio.de/event/3215
END:VEVENT
END:VCALENDAR
