BEGIN:VCALENDAR
VERSION:2.0
PRODID:-//Kulvio Event Calendar//kulvio.de//
CALSCALE:GREGORIAN
METHOD:PUBLISH
BEGIN:VEVENT
SUMMARY:Überstunde Frankfurt × LOKAL Coffee Drinks & Artists
DTSTART:20260429T140000Z
DTEND:20260429T150000Z
DTSTAMP:20260421T042006Z
UID:kulvio-event-3216@kulvio.de
CATEGORIES:Afterwork,Networking
CREATED:20260420T074719Z
DESCRIPTION:Die Networking-Reihe Überstunde lädt zum Afterwork-Event in 
 die Location LOKAL Coffee Drinks & Artists in Frankfurt-Riederwald ein. In
  entspannter Atmosphäre treffen sich Menschen aus verschiedenen Branchen 
 und Karrierestufen zum offenen Austausch auf Augenhöhe. Bei Überstunde s
 teht nicht die Visitenkarte im Vordergrund\, sondern echte Gespräche und 
 neue Verbindungen. Die Teilnahme erfordert eine vorherige Anmeldung über 
 die Website.
GEO:50.136203;8.734673
LAST-MODIFIED:20260420T104409Z
LOCATION:LOKAL Coffee Drinks & Artists\, Flinschstraße 35\, 60388\, Frank
 furt am Main
STATUS:CONFIRMED
URL:https://kulvio.de/event/3216
END:VEVENT
END:VCALENDAR
