BEGIN:VCALENDAR
VERSION:2.0
PRODID:-//Kulvio Event Calendar//kulvio.de//
CALSCALE:GREGORIAN
METHOD:PUBLISH
BEGIN:VEVENT
SUMMARY:Überstunde KLUB Frankfurt × Deutsche Bundesbank
DTSTART:20260618T140000Z
DTEND:20260618T150000Z
DTSTAMP:20260421T042123Z
UID:kulvio-event-3217@kulvio.de
CATEGORIES:Afterwork,Networking
CREATED:20260420T074719Z
DESCRIPTION:Das Format Überstunde KLUB bringt das Networking-Event in den
  Europavillon der Deutschen Bundesbank an der Mainzer Landstraße in Frank
 furt. Der exklusive Abend kombiniert Programm\, Musik und eine besondere L
 ocation\, die sonst nicht öffentlich zugänglich ist. Die Veranstaltung i
 st kostenfrei\, eine vorherige Anmeldung ist jedoch erforderlich. Die Übe
 rstunde-Events richten sich an alle\, die neugierig sind und echte Begegnu
 ngen jenseits von Branchengrenzen suchen.
GEO:50.111572;8.664522
LAST-MODIFIED:20260420T104409Z
LOCATION:Europavillon der Deutschen Bundesbank\, Mainzer Landstraße 46\, 
 60325\, Frankfurt am Main
STATUS:CONFIRMED
URL:https://kulvio.de/event/3217
END:VEVENT
END:VCALENDAR
