BEGIN:VCALENDAR
VERSION:2.0
PRODID:-//Kulvio Event Calendar//kulvio.de//
CALSCALE:GREGORIAN
METHOD:PUBLISH
BEGIN:VEVENT
SUMMARY:World Club Dome 2026 – Freitag
DTSTART:20260605T140000Z
DTEND:20260605T150000Z
DTSTAMP:20260421T042009Z
UID:kulvio-event-3218@kulvio.de
CATEGORIES:Festival,Club,Open-Air
CREATED:20260420T074738Z
DESCRIPTION:Der World Club Dome öffnet am Freitag seine Tore in der Deuts
 chen Bank Park in Frankfurt und verwandelt das Stadion in einen gigantisch
 en Club unter freiem Himmel. Über 200 DJs spielen an drei Tagen auf mehr 
 als 20 Bühnen beim selbsternannten größten Club der Welt. Am Freitag st
 ehen unter anderem DJ Snake\, Robin Schulz\, Lilly Palmer und Felix Kröch
 er auf dem Programm. BigCityBeats veranstaltet das Festival seit mehreren 
 Jahren in Frankfurt und zieht jedes Jahr Zehntausende Besucher an. Einlass
  ist ab 18 Jahren.
GEO:50.06861;8.645415
LAST-MODIFIED:20260420T104409Z
LOCATION:Deutsche Bank Park\, Mörfelder Landstr. 362\, 60528\, Frankfurt 
 am Main
STATUS:CONFIRMED
URL:https://kulvio.de/event/3218
END:VEVENT
END:VCALENDAR
