BEGIN:VCALENDAR
VERSION:2.0
PRODID:-//Kulvio Event Calendar//kulvio.de//
CALSCALE:GREGORIAN
METHOD:PUBLISH
BEGIN:VEVENT
SUMMARY:World Club Dome 2026 – Samstag
DTSTART:20260606T120000Z
DTEND:20260606T130000Z
DTSTAMP:20260421T042007Z
UID:kulvio-event-3219@kulvio.de
CATEGORIES:Festival,Club,Open-Air
CREATED:20260420T074738Z
DESCRIPTION:Am Samstag geht der World Club Dome in der Deutschen Bank Park
  in die zweite Runde. Highlights des Tages sind Eric Prydz\, James Hype mi
 t einer exklusiven Sync Stadium Show\, Alok und Miss Monique. Über 20 Bü
 hnen bieten ein breites Spektrum elektronischer Musik von Techno über Hou
 se bis Hardstyle. Das Festival in Frankfurt gilt als eines der größten C
 lub-Events Europas und wird von BigCityBeats organisiert. Einlass ist ab 1
 8 Jahren.
GEO:50.06861;8.645415
LAST-MODIFIED:20260420T104409Z
LOCATION:Deutsche Bank Park\, Mörfelder Landstr. 362\, 60528\, Frankfurt 
 am Main
STATUS:CONFIRMED
URL:https://kulvio.de/event/3219
END:VEVENT
END:VCALENDAR
