BEGIN:VCALENDAR
VERSION:2.0
PRODID:-//Kulvio Event Calendar//kulvio.de//
CALSCALE:GREGORIAN
METHOD:PUBLISH
BEGIN:VEVENT
SUMMARY:World Club Dome 2026 – Sonntag
DTSTART:20260607T120000Z
DTEND:20260607T130000Z
DTSTAMP:20260421T042433Z
UID:kulvio-event-3220@kulvio.de
CATEGORIES:Festival,Club,Open-Air
CREATED:20260420T074739Z
DESCRIPTION:Der letzte Tag des World Club Dome 2026 in der Deutschen Bank 
 Park bringt ein abwechslungsreiches Lineup mit Haftbefehl\, Steve Aoki\, B
 ebe Rexha und Steve Angello. Das dreitägige Festival von BigCityBeats sch
 ließt mit einem Programm\, das von Hip-Hop über Pop-Dance bis Techno rei
 cht. Die Deutsche Bank Park in Frankfurt-Sachsenhausen bietet als Austragu
 ngsort Platz für Zehntausende Festivalbesucher. Einlass ist ab 18 Jahren.
GEO:50.06861;8.645415
LAST-MODIFIED:20260420T104409Z
LOCATION:Deutsche Bank Park\, Mörfelder Landstr. 362\, 60528\, Frankfurt 
 am Main
STATUS:CONFIRMED
URL:https://kulvio.de/event/3220
END:VEVENT
END:VCALENDAR
