BEGIN:VCALENDAR
VERSION:2.0
PRODID:-//Kulvio Event Calendar//kulvio.de//
CALSCALE:GREGORIAN
METHOD:PUBLISH
BEGIN:VEVENT
SUMMARY:WE ARE ONE x MTW – Tanz in den Mai
DTSTART:20260430T200000Z
DTEND:20260430T210000Z
DTSTAMP:20260421T042427Z
UID:kulvio-event-3221@kulvio.de
CATEGORIES:Club,Party
CREATED:20260420T074800Z
DESCRIPTION:Zum Tanz in den Mai lädt die Veranstaltungsreihe WE ARE ONE i
 n den MTW Club nach Offenbach ein. An den Decks stehen AMBAM b2b FRANKY B\
 , die den Vorabend zum Feiertag mit einem energiegeladenen Back-to-Back-Se
 t begleiten. Der MTW Club am Nordring ist einer der etablierten Techno-Clu
 bs der Region und liegt direkt am Mainufer im Offenbacher Industriegebiet 
 Kaiserlei. Die Nacht vor dem 1. Mai gehört traditionell zu den größten 
 Partynächten des Jahres.
GEO:50.111689;8.738979
LAST-MODIFIED:20260420T104409Z
LOCATION:Robert Johnson\, Nordring 131\, 63067\, Offenbach am Main
STATUS:CONFIRMED
URL:https://kulvio.de/event/3221
END:VEVENT
END:VCALENDAR
