BEGIN:VCALENDAR
VERSION:2.0
PRODID:-//Kulvio Event Calendar//kulvio.de//
CALSCALE:GREGORIAN
METHOD:PUBLISH
BEGIN:VEVENT
SUMMARY:TRANCE FOREVER im MTW Club
DTSTART:20260513T200000Z
DTEND:20260513T210000Z
DTSTAMP:20260421T042501Z
UID:kulvio-event-3222@kulvio.de
CATEGORIES:Club,Party
CREATED:20260420T074800Z
DESCRIPTION:TRANCE FOREVER verspricht eine Nacht voller Emotionen\, Energi
 e und euphorischer Melodien im MTW Club in Offenbach. Die Veranstaltung wi
 dmet sich dem Genre Trance in all seinen Facetten und richtet sich an Fans
  von melodischen\, treibenden und uplifting Klängen. Der Club am Nordring
  im Offenbacher Kaiserlei-Gebiet bietet mit seinem leistungsstarken Sound-
 System die ideale Bühne für einen solchen Abend. Einlass ist ab 18 Jahre
 n.
GEO:50.111689;8.738979
LAST-MODIFIED:20260420T104409Z
LOCATION:Robert Johnson\, Nordring 131\, 63067\, Offenbach am Main
STATUS:CONFIRMED
URL:https://kulvio.de/event/3222
END:VEVENT
END:VCALENDAR
