BEGIN:VCALENDAR
VERSION:2.0
PRODID:-//Kulvio Event Calendar//kulvio.de//
CALSCALE:GREGORIAN
METHOD:PUBLISH
BEGIN:VEVENT
SUMMARY:Musik im Hof mit Dominik Eulberg\, Karotte und Frau Laura
DTSTART:20260514T160000Z
DTEND:20260514T170000Z
DTSTAMP:20260421T043149Z
UID:kulvio-event-3223@kulvio.de
CATEGORIES:Konzert,Club,Open-Air
CREATED:20260420T074800Z
DESCRIPTION:Die Reihe Musik im Hof bringt drei renommierte DJs in den Inne
 nhof des MTW Club in Offenbach. Dominik Eulberg\, bekannt für seine natur
 inspirierten elektronischen Sets und seine Leidenschaft für Biodiversitä
 t\, trifft auf Karotte\, eine feste Größe der deutschen Techno- und Hous
 e-Szene mit über 30 Jahren Erfahrung\, sowie Frau Laura. Das Open-Air-For
 mat im Hof des Clubs am Mainufer sorgt für eine besondere Atmosphäre zwi
 schen Industrie-Charme und Natur. Beginn ist am frühen Abend.
GEO:50.111689;8.738979
LAST-MODIFIED:20260420T104409Z
LOCATION:Robert Johnson\, Nordring 131\, 63067\, Offenbach am Main
STATUS:CONFIRMED
URL:https://kulvio.de/event/3223
END:VEVENT
END:VCALENDAR
