BEGIN:VCALENDAR
VERSION:2.0
PRODID:-//Kulvio Event Calendar//kulvio.de//
CALSCALE:GREGORIAN
METHOD:PUBLISH
BEGIN:VEVENT
SUMMARY:Let.out.your.geeker im MTW Club
DTSTART:20260516T200000Z
DTEND:20260516T210000Z
DTSTAMP:20260421T042120Z
UID:kulvio-event-3224@kulvio.de
CATEGORIES:Club,Party
CREATED:20260420T074800Z
DESCRIPTION:Die Veranstaltungsreihe Let.out.your.geeker lädt zu einem Abe
 nd im MTW Club in Offenbach ein. Ab 22 Uhr erwartet die Gäste elektronisc
 he Musik in clubbiger Atmosphäre am Mainufer. Der MTW Club im Offenbacher
  Industriegebiet Kaiserlei ist bekannt für sein vielfältiges Programm\, 
 das von Techno über House bis zu experimentellen Sounds reicht. Die Locat
 ion direkt am Main mit ihrer Außenterrasse bietet dabei ein besonderes Am
 biente.
GEO:50.111689;8.738979
LAST-MODIFIED:20260420T104409Z
LOCATION:Robert Johnson\, Nordring 131\, 63067\, Offenbach am Main
STATUS:CONFIRMED
URL:https://kulvio.de/event/3224
END:VEVENT
END:VCALENDAR
