BEGIN:VCALENDAR
VERSION:2.0
PRODID:-//Kulvio Event Calendar//kulvio.de//
CALSCALE:GREGORIAN
METHOD:PUBLISH
BEGIN:VEVENT
SUMMARY:Excited Celebration vs Nacht der Maschinen auf 2 Floors
DTSTART:20260530T190000Z
DTEND:20260530T200000Z
DTSTAMP:20260421T042005Z
UID:kulvio-event-3225@kulvio.de
CATEGORIES:Club,Party
CREATED:20260420T074800Z
DESCRIPTION:Zwei etablierte Veranstaltungsreihen vereinen sich auf zwei Fl
 oors im MTW Club in Offenbach: Excited Celebration und Nacht der Maschinen
  bieten ab 21 Uhr ein vielseitiges elektronisches Programm. Die Gäste kö
 nnen zwischen verschiedenen Musikrichtungen und Atmosphären auf den beide
 n Ebenen des Clubs wechseln. Der MTW Club am Nordring direkt am Main biete
 t mit seiner industriellen Architektur und dem leistungsstarken Sound-Syst
 em den passenden Rahmen für diesen Doppel-Event.
GEO:50.111689;8.738979
LAST-MODIFIED:20260420T104409Z
LOCATION:Robert Johnson\, Nordring 131\, 63067\, Offenbach am Main
STATUS:CONFIRMED
URL:https://kulvio.de/event/3225
END:VEVENT
END:VCALENDAR
