BEGIN:VCALENDAR
VERSION:2.0
PRODID:-//Kulvio Event Calendar//kulvio.de//
CALSCALE:GREGORIAN
METHOD:PUBLISH
BEGIN:VEVENT
SUMMARY:K+D Kicks 30 — Kruder & Dorfmeister
DTSTART:20260421T180000Z
DTEND:20260421T190000Z
DTSTAMP:20260421T043148Z
UID:kulvio-event-3226@kulvio.de
CATEGORIES:Club,Konzert
CREATED:20260420T165425Z
DESCRIPTION:Das legendäre DJ-Duo Kruder & Dorfmeister feiert mit seiner K
 +D Kicks 30 Tour das 30-jährige Jubiläum ihres ikonischen DJ-Kicks-Album
 s. Im ZOOM Frankfurt erwartet die Gäste ein audiovisuelles DJ-Set mit beg
 leitenden Visuals. Die beiden Wiener Produzenten verbinden Downtempo\, Dub
  und Trip-Hop zu einem unverwechselbaren Sound\, der seit den Neunzigerjah
 ren weltweit Fans begeistert. Der Abend richtet sich an alle Liebhaber ele
 ktronischer Musik und Clubkultur.
GEO:50.121618;8.750517
LAST-MODIFIED:20260420T165930Z
LOCATION:ZOOM Frankfurt\, Carl-Benz-Str. 21\, 60386\, Frankfurt am Main
STATUS:CONFIRMED
URL:https://kulvio.de/event/3226
END:VEVENT
END:VCALENDAR
