BEGIN:VCALENDAR
VERSION:2.0
PRODID:-//Kulvio Event Calendar//kulvio.de//
CALSCALE:GREGORIAN
METHOD:PUBLISH
BEGIN:VEVENT
SUMMARY:Sapphic Pearls im Rot & Vogel
DTSTART:20260423T170000Z
DTEND:20260423T180000Z
DTSTAMP:20260421T085044Z
UID:kulvio-event-3227@kulvio.de
CATEGORIES:LGBTQIA+,Party
CREATED:20260420T165425Z
DESCRIPTION:Die Sapphic Pearls laden zum queeren Abend in die Cocktailbar 
 Rot & Vogel im Frankfurter Nordend ein. Die Veranstaltung richtet sich an 
 FLINTA-Personen und bietet eine entspannte Atmosphäre mit DJ-Musik und kr
 eativen Cocktails. Im stilvollen Ambiente der beliebten Stadtteilbar könn
 en sich Gäste vernetzen und den Abend in guter Gesellschaft genießen. De
 r Eintritt ist frei.
GEO:50.124887;8.693246
LAST-MODIFIED:20260420T165930Z
LOCATION:Rot & Vogel\, Rotlintstraße 28\, 60316\, Frankfurt am Main
STATUS:CONFIRMED
URL:https://kulvio.de/event/3227
END:VEVENT
END:VCALENDAR
