BEGIN:VCALENDAR
VERSION:2.0
PRODID:-//Kulvio Event Calendar//kulvio.de//
CALSCALE:GREGORIAN
METHOD:PUBLISH
BEGIN:VEVENT
SUMMARY:Thursday Frankfurt Singles Night
DTSTART:20260423T170000Z
DTEND:20260423T180000Z
DTSTAMP:20260421T042307Z
UID:kulvio-event-3228@kulvio.de
CATEGORIES:Meetup
CREATED:20260420T165425Z
DESCRIPTION:Die Thursday Singles Night bringt Singles in lockerer Atmosph
 äre im Friday's Bowling Frankfurt zusammen. Die Veranstaltung bietet die 
 Möglichkeit\, beim gemeinsamen Bowling\, Billard oder Dart neue Leute ken
 nenzulernen. Das Friday's Bowling ist die größte Bowlingbahn im Rhein-Ma
 in-Gebiet mit über 25 Bahnen und moderner Ausstattung. Der Abend richtet 
 sich an alle\, die in ungezwungener Umgebung Kontakte knüpfen möchten.
GEO:50.161836;8.688004
LAST-MODIFIED:20260420T165930Z
LOCATION:Friday's Bowling Frankfurt\, August-Schanz-Straße 33\, 60433\, F
 rankfurt am Main
STATUS:CONFIRMED
URL:https://kulvio.de/event/3228
END:VEVENT
END:VCALENDAR
