BEGIN:VCALENDAR
VERSION:2.0
PRODID:-//Kulvio Event Calendar//kulvio.de//
CALSCALE:GREGORIAN
METHOD:PUBLISH
BEGIN:VEVENT
SUMMARY:Nacht der Museen Frankfurt
DTSTART:20260425T170000Z
DTEND:20260426T000000Z
DTSTAMP:20260421T042122Z
UID:kulvio-event-3229@kulvio.de
CATEGORIES:Ausstellung,Galerie
CREATED:20260420T165425Z
DESCRIPTION:Die Nacht der Museen öffnet über 50 Kulturinstitutionen in F
 rankfurt\, Offenbach und Eschborn für eine lange Nacht voller Kunst\, Mus
 ik und Entdeckungen. Von 19 Uhr bis 2 Uhr morgens können Besuchende Musee
 n\, Galerien und Ausstellungsräume erkunden\, begleitet von einem vielfä
 ltigen Rahmenprogramm. Das Ticket beinhaltet den freien Eintritt in alle t
 eilnehmenden Häuser sowie die kostenlose Nutzung des RMV-Nahverkehrs ab f
 ünf Stunden vor Veranstaltungsbeginn bis 11 Uhr am Folgetag. Zu den Höhe
 punkten zählen unter anderem das Städel Museum\, die Schirn Kunsthalle u
 nd das MMK.
GEO:50.10168;8.670354
LAST-MODIFIED:20260420T165930Z
LOCATION:Schaumainkai\, 60596\, Frankfurt am Main
STATUS:CONFIRMED
URL:https://kulvio.de/event/3229
END:VEVENT
END:VCALENDAR
