BEGIN:VCALENDAR
VERSION:2.0
PRODID:-//Kulvio Event Calendar//kulvio.de//
CALSCALE:GREGORIAN
METHOD:PUBLISH
BEGIN:VEVENT
SUMMARY:Ours Open Air Pre-Opening
DTSTART:20260425T120000Z
DTEND:20260425T130000Z
DTSTAMP:20260421T034505Z
UID:kulvio-event-3230@kulvio.de
CATEGORIES:Club,Party,Open-Air
CREATED:20260420T165426Z
DESCRIPTION:Das Ours Open Air startet mit einem Pre-Opening in die Saison 
 2026 am Frankfurter Mainufer im Ostend. Am Blaues Wasser laden internation
 ale DJs wie Maceo Plex\, Radioslave und Alinka zu einem Nachmittag und Abe
 nd mit elektronischer Musik unter freiem Himmel ein. Die Location an der F
 ranziusstraße bietet direkten Blick auf die Frankfurter Skyline. Early-Bi
 rd-Tickets sind ab 25 Euro erhältlich.
GEO:50.11153;8.73225
LAST-MODIFIED:20260420T165930Z
LOCATION:Blaues Wasser\, Franziusstraße 35\, 60314\, Frankfurt am Main
STATUS:CONFIRMED
URL:https://kulvio.de/event/3230
END:VEVENT
END:VCALENDAR
