BEGIN:VCALENDAR
VERSION:2.0
PRODID:-//Kulvio Event Calendar//kulvio.de//
CALSCALE:GREGORIAN
METHOD:PUBLISH
BEGIN:VEVENT
SUMMARY:Main Moves Funcup 2026
DTSTART:20260425T080000Z
DTEND:20260425T153000Z
DTSTAMP:20260421T034608Z
UID:kulvio-event-3231@kulvio.de
CATEGORIES:Sportkurs,Wettkampf
CREATED:20260420T165426Z
DESCRIPTION:Der Main Moves Funcup ist ein Boulderwettkampf für Kletterbeg
 eisterte ab Level 4 in der Boulderwelt Frankfurt. An 35 speziell geschraub
 ten Bouldern können sich Teilnehmende in einem freundschaftlichen Wettbew
 erb messen. Das Finale wird mit drei Bouldern pro Gruppe ausgetragen und g
 egen 17:30 Uhr ausgerufen. Im Anschluss gibt es Essen und Cocktails. Die T
 eilnahmegebühr beträgt 25 Euro im Early-Bird-Tarif.
GEO:50.164154;8.684796
LAST-MODIFIED:20260420T165930Z
LOCATION:Boulderwelt Frankfurt\, August-Schanz-Straße 50\, 60433\, Frankf
 urt am Main
STATUS:CONFIRMED
URL:https://kulvio.de/event/3231
END:VEVENT
END:VCALENDAR
