BEGIN:VCALENDAR
VERSION:2.0
PRODID:-//Kulvio Event Calendar//kulvio.de//
CALSCALE:GREGORIAN
METHOD:PUBLISH
BEGIN:VEVENT
SUMMARY:Gudes Pizza & Peroni
DTSTART:20260425T110000Z
DTEND:20260425T200000Z
DTSTAMP:20260421T034509Z
UID:kulvio-event-3232@kulvio.de
CATEGORIES:Food-Festival,Afterwork
CREATED:20260420T165426Z
DESCRIPTION:Das Gudes an der Friedberger Landstraße lädt zur Pizza & Per
 oni Ausgabe ein. An dem beliebten Frankfurter Wasserhäuschen im Nordend g
 ibt es frische Pizza und kühles Peroni-Bier in geselliger Open-Air-Atmosp
 häre. Die Veranstaltung gehört zur Gudes-Sommerreihe und bringt Nachbars
 chaft und Gäste zusammen. Der Abend eignet sich für alle\, die den Früh
 ling draußen genießen möchten.
GEO:50.125961;8.691164
LAST-MODIFIED:20260420T165930Z
LOCATION:Gudes\, Friedberger Landstraße 107\, 60318\, Frankfurt am Main
STATUS:CONFIRMED
URL:https://kulvio.de/event/3232
END:VEVENT
END:VCALENDAR
