BEGIN:VCALENDAR
VERSION:2.0
PRODID:-//Kulvio Event Calendar//kulvio.de//
CALSCALE:GREGORIAN
METHOD:PUBLISH
BEGIN:VEVENT
SUMMARY:Deutsche Sektbörse Mainz
DTSTART:20260425T120000Z
DTEND:20260425T160000Z
DTSTAMP:20260421T034610Z
UID:kulvio-event-3233@kulvio.de
CATEGORIES:Tasting
CREATED:20260420T165426Z
DESCRIPTION:Die vierte Ausgabe der Deutschen Sektbörse findet im Kurfürs
 tlichen Schloss Mainz statt. Über 40 Sektmacher präsentieren handwerklic
 h hergestellte Schaumweine aus ganz Deutschland. Ab 14 Uhr ist die Veranst
 altung für das Publikum geöffnet. Die Sektbörse ist Teil der Wine Mainz
 \, einem Wochenende rund um deutschen Wein und Sekt in der Landeshauptstad
 t. Der Eintritt für Besucher beträgt 30 Euro.
GEO:50.006845;8.269774
LAST-MODIFIED:20260420T165930Z
LOCATION:Kurfürstliches Schloss Mainz\, Peter-Altmeier-Allee 9\, 55116\, 
 Mainz
STATUS:CONFIRMED
URL:https://kulvio.de/event/3233
END:VEVENT
END:VCALENDAR
