BEGIN:VCALENDAR
VERSION:2.0
PRODID:-//Kulvio Event Calendar//kulvio.de//
CALSCALE:GREGORIAN
METHOD:PUBLISH
BEGIN:VEVENT
SUMMARY:Bornheimer Weinfest
DTSTART:20260430T140000Z
DTEND:20260430T210000Z
DTSTAMP:20260421T035136Z
UID:kulvio-event-3235@kulvio.de
CATEGORIES:Tasting,Festival,Open-Air
CREATED:20260420T165426Z
DESCRIPTION:Das Bornheimer Weinfest auf dem Fünffingerplatz und der obere
 n Berger Straße gehört zu den beliebtesten Straßenfesten im Frankfurter
  Nordosten. Winzer aus dem Rheingau\, Rheinhessen und der Pfalz bieten ein
 e Auswahl regionaler Weine an. Dazu gibt es ein gastronomisches Angebot un
 d Live-Musik. Das Fest im Herzen von Bornheim zieht jedes Jahr tausende Be
 suchende an und markiert den Auftakt in die Frankfurter Weinfestsaison.
GEO:50.038448;8.554388
LAST-MODIFIED:20260420T165930Z
LOCATION:Fünffingerplatz\, 60385\, Frankfurt am Main
STATUS:CONFIRMED
URL:https://kulvio.de/event/3235
END:VEVENT
END:VCALENDAR
