BEGIN:VCALENDAR
VERSION:2.0
PRODID:-//Kulvio Event Calendar//kulvio.de//
CALSCALE:GREGORIAN
METHOD:PUBLISH
BEGIN:VEVENT
SUMMARY:HEAT x WCD Pool Sessions Summer Opening
DTSTART:20260502T100000Z
DTEND:20260502T200000Z
DTSTAMP:20260421T034510Z
UID:kulvio-event-3239@kulvio.de
CATEGORIES:Party,Festival,Open-Air
CREATED:20260420T165426Z
DESCRIPTION:Die HEAT Pool Sessions feiern ihr Summer Opening im Brentanoba
 d Frankfurt. Ab 12 Uhr verwandelt sich das Freibad in Rödelheim in eine O
 pen-Air-Partyzone mit DJs und elektronischer Musik am Pool. Die Veranstalt
 ung wird in Zusammenarbeit mit World Club Dome organisiert und kombiniert 
 Schwimmbad-Atmosphäre mit Club-Feeling. Im Anschluss findet eine Afterpar
 ty im ZOOM Frankfurt statt.
GEO:50.124893;8.618451
LAST-MODIFIED:20260420T165930Z
LOCATION:Brentanobad\, Rödelheimer Parkweg\, 60489\, Frankfurt am Main
STATUS:CONFIRMED
URL:https://kulvio.de/event/3239
END:VEVENT
END:VCALENDAR
