BEGIN:VCALENDAR
VERSION:2.0
PRODID:-//Kulvio Event Calendar//kulvio.de//
CALSCALE:GREGORIAN
METHOD:PUBLISH
BEGIN:VEVENT
SUMMARY:ECOVIS Spitzenhandball — TV Großwallstadt vs. VfL Lübeck-Schwa
 rtau
DTSTART:20260508T180000Z
DTEND:20260508T190000Z
DTSTAMP:20260421T042428Z
UID:kulvio-event-3240@kulvio.de
CATEGORIES:Wettkampf,Mannschaftssport
CREATED:20260420T165426Z
DESCRIPTION:Der TV Großwallstadt trägt sein Heimspiel gegen den VfL Lüb
 eck-Schwartau in der Süwag Energie Arena in Frankfurt aus. Im Rahmen der 
 ECOVIS Spitzenhandball-Reihe bietet der Abend Zweitliga-Handball auf hohem
  Niveau. Die Arena in Frankfurt-Höchst fasst mehrere tausend Zuschauer un
 d sorgt für eine stimmungsvolle Kulisse. Es ist bereits die dritte Saison
 \, in der der TV Großwallstadt seine Highlights nach Frankfurt verlegt.
GEO:50.101227;8.527232
LAST-MODIFIED:20260420T165930Z
LOCATION:Süwag Energie ARENA\, Silostraße 46\, 65929\, Frankfurt am Main
STATUS:CONFIRMED
URL:https://kulvio.de/event/3240
END:VEVENT
END:VCALENDAR
