BEGIN:VCALENDAR
VERSION:2.0
PRODID:-//Kulvio Event Calendar//kulvio.de//
CALSCALE:GREGORIAN
METHOD:PUBLISH
BEGIN:VEVENT
SUMMARY:Mainzer WeinUfer
DTSTART:20260516T100000Z
DTEND:20260516T200000Z
DTSTAMP:20260421T034508Z
UID:kulvio-event-3243@kulvio.de
CATEGORIES:Tasting,Festival,Open-Air
CREATED:20260420T165426Z
DESCRIPTION:Das Mainzer WeinUfer erstreckt sich entlang der Rheinpromenade
  zwischen Theodor-Heuss-Brücke und Kaisertor. Regionale Winzer präsentie
 ren ihre Weine direkt am Rheinufer\, begleitet von kulinarischen Ständen 
 und Live-Musik. Die Veranstaltung gehört zu den Höhepunkten der Mainzer 
 Weinfestsaison und bietet einen entspannten Genuss-Spaziergang mit Blick a
 uf den Rhein. Das Programm umfasst unter anderem den Pink Sunday und den W
 einUferWalk.
GEO:49.997895;8.253032
LAST-MODIFIED:20260420T165930Z
LOCATION:Rheinpromenade\, 55116\, Mainz
STATUS:CONFIRMED
URL:https://kulvio.de/event/3243
END:VEVENT
END:VCALENDAR
