BEGIN:VCALENDAR
VERSION:2.0
PRODID:-//Kulvio Event Calendar//kulvio.de//
CALSCALE:GREGORIAN
METHOD:PUBLISH
BEGIN:VEVENT
SUMMARY:FLINTA With Focus — Wir sammeln Farben!
DTSTART:20260516T090000Z
DTEND:20260516T100000Z
DTSTAMP:20260421T042429Z
UID:kulvio-event-3245@kulvio.de
CATEGORIES:FLINTA*
CREATED:20260420T165426Z
DESCRIPTION:FLINTA With Focus lädt unter dem Motto 'Wir sammeln Farben!' 
 in die Kleinmarkthalle Frankfurt ein. Die Veranstaltung richtet sich an FL
 INTA-Personen und bietet einen kreativen Rahmen für Austausch und Vernetz
 ung. Die historische Kleinmarkthalle in der Frankfurter Innenstadt dient a
 ls Treffpunkt für die Community. Beginn ist um 11 Uhr.
GEO:50.112753;8.683666
LAST-MODIFIED:20260420T165930Z
LOCATION:Kleinmarkthalle\, Hasengasse 5-7\, 60311\, Frankfurt am Main
STATUS:CONFIRMED
URL:https://kulvio.de/event/3245
END:VEVENT
END:VCALENDAR
