BEGIN:VCALENDAR
VERSION:2.0
PRODID:-//Kulvio Event Calendar//kulvio.de//
CALSCALE:GREGORIAN
METHOD:PUBLISH
BEGIN:VEVENT
SUMMARY:Gudes Burger & Beats
DTSTART:20260516T110000Z
DTEND:20260516T200000Z
DTSTAMP:20260421T034606Z
UID:kulvio-event-3246@kulvio.de
CATEGORIES:Food-Festival,Party
CREATED:20260420T165426Z
DESCRIPTION:Beim Burger & Beats am Gudes Wasserhäuschen trifft Street Foo
 d auf Musik unter freiem Himmel. An der Friedberger Landstraße im Nordend
  gibt es saftige Burger und dazu legen DJs auf. Die Veranstaltung ist Teil
  der beliebten Gudes-Sommerreihe\, die das Frankfurter Wasserhäuschen-Fee
 ling mit kulinarischen Events verbindet. Der Abend eignet sich für alle\,
  die gutes Essen und gute Beats in entspannter Nachbarschaftsatmosphäre g
 enießen wollen.
GEO:50.125961;8.691164
LAST-MODIFIED:20260420T165930Z
LOCATION:Gudes\, Friedberger Landstraße 107\, 60318\, Frankfurt am Main
STATUS:CONFIRMED
URL:https://kulvio.de/event/3246
END:VEVENT
END:VCALENDAR
