BEGIN:VCALENDAR
VERSION:2.0
PRODID:-//Kulvio Event Calendar//kulvio.de//
CALSCALE:GREGORIAN
METHOD:PUBLISH
BEGIN:VEVENT
SUMMARY:Mona Lisas Geheimnis — Immersive Ausstellung
DTSTART:20260517T100000Z
DTEND:20260726T180000Z
DTSTAMP:20260421T042122Z
UID:kulvio-event-3247@kulvio.de
CATEGORIES:Ausstellung
CREATED:20260420T165426Z
DESCRIPTION:Die interaktive Ausstellung Mona Lisas Geheimnis verbindet Kun
 st\, Virtual Reality und künstliche Intelligenz im Squaire am Frankfurter
  Flughafen. Auf rund 75 bis 90 Minuten Laufzeit tauchen Besuchende in die 
 Welt von Leonardo da Vincis berühmtem Gemälde ein. Die Schau nutzt moder
 nste Technik\, um die Geschichte hinter dem Meisterwerk erlebbar zu machen
 . Geöffnet ist die Ausstellung samstags und sonntags von 12 bis 20 Uhr\, 
 letzter Einlass um 18 Uhr.
GEO:50.054031;8.574983
LAST-MODIFIED:20260420T165930Z
LOCATION:The Squaire\, Am Flughafen\, 60549\, Frankfurt am Main
STATUS:CONFIRMED
URL:https://kulvio.de/event/3247
END:VEVENT
END:VCALENDAR
