BEGIN:VCALENDAR
VERSION:2.0
PRODID:-//Kulvio Event Calendar//kulvio.de//
CALSCALE:GREGORIAN
METHOD:PUBLISH
BEGIN:VEVENT
SUMMARY:Rheingauer Weinfestival
DTSTART:20260525T120000Z
DTEND:20260525T210000Z
DTSTAMP:20260421T043148Z
UID:kulvio-event-3251@kulvio.de
CATEGORIES:Tasting,Festival,Open-Air
CREATED:20260420T165426Z
DESCRIPTION:Das Rheingauer Weinfestival findet auf dem Gelände des Weingu
 ts Hirt-Gebhardt in den Eltviller Sonnenbergen statt. Das Pfingstwochenend
 e bietet eine Kombination aus regionalen Weinen\, Food Trucks\, Live-Musik
  und Party inmitten der Rheingauer Weinberge. Über 40 Künstler treten au
 f\, dazu servieren ausgewählte Winzer ihre Weine. Die malerische Kulisse 
 mit Blick auf den Rhein macht das Festival zu einem besonderen Erlebnis.
GEO:50.033523;8.125119
LAST-MODIFIED:20260420T165930Z
LOCATION:Weingut Hirt-Gebhardt\, Weinhohle 16\, 65343\, Eltville am Rhein
STATUS:CONFIRMED
URL:https://kulvio.de/event/3251
END:VEVENT
END:VCALENDAR
