BEGIN:VCALENDAR
VERSION:2.0
PRODID:-//Kulvio Event Calendar//kulvio.de//
CALSCALE:GREGORIAN
METHOD:PUBLISH
BEGIN:VEVENT
SUMMARY:Vibrancy at Kurhaus Wiesbaden
DTSTART:20260523T130000Z
DTEND:20260523T200000Z
DTSTAMP:20260421T042428Z
UID:kulvio-event-3252@kulvio.de
CATEGORIES:Konzert,Festival,Open-Air
CREATED:20260420T165426Z
DESCRIPTION:Vibrancy bringt erstmals eine große Techno- und House-Show vo
 r das historische Kurhaus Wiesbaden. Das internationale Lineup umfasst Cam
 elPhat\, Fritz Kalkbrenner\, Christian Löffler sowie Chris Luno b2b Skala
  und Amina. Von 15 bis 22 Uhr erwartet die Gäste eine spektakuläre Licht
 show vor der ikonischen Kulisse des Kurhauses. Die Veranstaltung ist ab 18
  Jahren.
GEO:50.085074;8.247504
LAST-MODIFIED:20260420T165930Z
LOCATION:Kurhaus Wiesbaden\, Kurhausplatz 1\, 65189\, Wiesbaden
STATUS:CONFIRMED
URL:https://kulvio.de/event/3252
END:VEVENT
END:VCALENDAR
