BEGIN:VCALENDAR
VERSION:2.0
PRODID:-//Kulvio Event Calendar//kulvio.de//
CALSCALE:GREGORIAN
METHOD:PUBLISH
BEGIN:VEVENT
SUMMARY:Gudes Frühlingsfest
DTSTART:20260530T110000Z
DTEND:20260530T200000Z
DTSTAMP:20260421T035111Z
UID:kulvio-event-3254@kulvio.de
CATEGORIES:Festival,Party,Open-Air
CREATED:20260420T165426Z
DESCRIPTION:Das Gudes Frühlingsfest feiert den Saisonauftakt am Frankfurt
 er Wasserhäuschen an der Friedberger Landstraße. Das Event bringt Musik\
 , Essen und Drinks zusammen und lädt die Nachbarschaft im Nordend zum Fei
 ern ein. Als Teil der Friends & Feste Reihe bietet das Frühlingsfest den 
 perfekten Rahmen für einen geselligen Tag unter freiem Himmel. Das Gudes 
 ist eines der bekanntesten Wasserhäuschen in Frankfurt.
GEO:50.125961;8.691164
LAST-MODIFIED:20260420T165930Z
LOCATION:Gudes\, Friedberger Landstraße 107\, 60318\, Frankfurt am Main
STATUS:CONFIRMED
URL:https://kulvio.de/event/3254
END:VEVENT
END:VCALENDAR
