BEGIN:VCALENDAR
VERSION:2.0
PRODID:-//Kulvio Event Calendar//kulvio.de//
CALSCALE:GREGORIAN
METHOD:PUBLISH
BEGIN:VEVENT
SUMMARY:We Are One x Schlachthof Festival feat. Fantasm
DTSTART:20260603T200000Z
DTEND:20260603T210000Z
DTSTAMP:20260421T041936Z
UID:kulvio-event-3255@kulvio.de
CATEGORIES:Festival,Club,Party
CREATED:20260420T165426Z
DESCRIPTION:Das Frankfurter Techno-Kollektiv We Are One veranstaltet ein m
 ehrstufiges Festival im Schlachthof Wiesbaden. Auf sechs Bühnen spielen 
 über 30 Künstler\, darunter Fantasm\, Nikolina b2b Neon Graveyard und Am
 bam. Das Festival verbindet Tag- und Nachtprogramm und gilt als eines der 
 größten Events des Kollektivs im Jahr 2026. Der Schlachthof Wiesbaden bi
 etet mit seinen verschiedenen Räumlichkeiten eine ideale Kulisse für ele
 ktronische Musik.
GEO:50.066485;8.247629
LAST-MODIFIED:20260420T165930Z
LOCATION:Schlachthof Wiesbaden\, Murnaustraße 1\, 65189\, Wiesbaden
STATUS:CONFIRMED
URL:https://kulvio.de/event/3255
END:VEVENT
END:VCALENDAR
