BEGIN:VCALENDAR
VERSION:2.0
PRODID:-//Kulvio Event Calendar//kulvio.de//
CALSCALE:GREGORIAN
METHOD:PUBLISH
BEGIN:VEVENT
SUMMARY:St. Albansfest Bodenheim
DTSTART:20260607T090000Z
DTEND:20260607T210000Z
DTSTAMP:20260421T035121Z
UID:kulvio-event-3258@kulvio.de
CATEGORIES:Tasting,Festival,Open-Air
CREATED:20260420T165426Z
DESCRIPTION:Das St. Albansfest in Bodenheim feiert seine 50. Ausgabe auf d
 er malerischen Rheinterrasse unterhalb der historischen Festungswand. 15 W
 inzer schenken ihre Weine aus\, begleitet von einem abwechslungsreichen Mu
 sikprogramm. Das Fest gilt als eines der schönsten Weinfeste in Rheinhess
 en und wurde mit dem Prädikat 'Ausgezeichnetes Weinfest' geehrt. Die Rhei
 nterrasse liegt zwischen Mainz und Worms und bietet eine stimmungsvolle At
 mosphäre.
GEO:49.931195;8.299633
LAST-MODIFIED:20260420T165930Z
LOCATION:Rheinterrasse\, Plattenhohl 1\, 55294\, Bodenheim
STATUS:CONFIRMED
URL:https://kulvio.de/event/3258
END:VEVENT
END:VCALENDAR
