BEGIN:VCALENDAR
VERSION:2.0
PRODID:-//Kulvio Event Calendar//kulvio.de//
CALSCALE:GREGORIAN
METHOD:PUBLISH
BEGIN:VEVENT
SUMMARY:Dyke*March Frankfurt #8
DTSTART:20260620T160000Z
DTEND:20260620T170000Z
DTSTAMP:20260421T042005Z
UID:kulvio-event-3260@kulvio.de
CATEGORIES:LGBTQIA+
CREATED:20260420T165426Z
DESCRIPTION:Der achte Dyke*March Frankfurt ist eine Demonstration für les
 bische und queere Sichtbarkeit. Die Route startet am Römer in der Frankfu
 rter Innenstadt. Ab 18 Uhr ist Treffpunkt am Römerberg\, der Marsch begin
 nt um 19 Uhr. Die Veranstaltung setzt ein Zeichen für die Rechte und Sich
 tbarkeit von Lesben und queeren Frauen. Die Teilnahme ist kostenlos.
GEO:50.110493;8.681976
LAST-MODIFIED:20260420T165930Z
LOCATION:Römerberg\, 60311\, Frankfurt am Main
STATUS:CONFIRMED
URL:https://kulvio.de/event/3260
END:VEVENT
END:VCALENDAR
