BEGIN:VCALENDAR
VERSION:2.0
PRODID:-//Kulvio Event Calendar//kulvio.de//
CALSCALE:GREGORIAN
METHOD:PUBLISH
BEGIN:VEVENT
SUMMARY:Gudes Pizza & Peroni
DTSTART:20260627T110000Z
DTEND:20260627T200000Z
DTSTAMP:20260421T034511Z
UID:kulvio-event-3261@kulvio.de
CATEGORIES:Food-Festival,Afterwork
CREATED:20260420T165427Z
DESCRIPTION:Das Gudes an der Friedberger Landstraße lädt zur sommerliche
 n Pizza & Peroni Ausgabe ein. Am beliebten Frankfurter Wasserhäuschen im 
 Nordend gibt es frische Pizza und kühles Peroni-Bier in geselliger Open-A
 ir-Atmosphäre. Die Veranstaltung gehört zur Gudes-Sommerreihe und bringt
  Nachbarschaft und Gäste zusammen. Der Sommerabend eignet sich für alle\
 , die den Feierabend draußen genießen möchten.
GEO:50.125961;8.691164
LAST-MODIFIED:20260420T165930Z
LOCATION:Gudes\, Friedberger Landstraße 107\, 60318\, Frankfurt am Main
STATUS:CONFIRMED
URL:https://kulvio.de/event/3261
END:VEVENT
END:VCALENDAR
