BEGIN:VCALENDAR
VERSION:2.0
PRODID:-//Kulvio Event Calendar//kulvio.de//
CALSCALE:GREGORIAN
METHOD:PUBLISH
BEGIN:VEVENT
SUMMARY:Weinfest im Kirchenstück
DTSTART:20260704T140000Z
DTEND:20260704T210000Z
DTSTAMP:20260421T034510Z
UID:kulvio-event-3263@kulvio.de
CATEGORIES:Tasting,Festival,Open-Air
CREATED:20260420T165427Z
DESCRIPTION:Das Weinfest im Kirchenstück findet in den Weinbergen von Mai
 nz-Hechtsheim statt. Die Hechtsheimer Winzer präsentieren ihre Weine auf 
 einem 500 Meter langen Parcours inmitten der Weinlage Kirchenstück. Das F
 est wurde mit dem Prädikat 'Rheinhessen Ausgezeichnet' geehrt und bietet 
 einen weiten Blick über die Rheinhessischen Hügel bis zum Taunus. Es geh
 ört zu den traditionsreichsten Weinfesten der Mainzer Sommerweinfeste.
GEO:49.997895;8.253032
LAST-MODIFIED:20260420T165930Z
LOCATION:Am Kirchenstück\, 55129\, Mainz
STATUS:CONFIRMED
URL:https://kulvio.de/event/3263
END:VEVENT
END:VCALENDAR
