BEGIN:VCALENDAR
VERSION:2.0
PRODID:-//Kulvio Event Calendar//kulvio.de//
CALSCALE:GREGORIAN
METHOD:PUBLISH
BEGIN:VEVENT
SUMMARY:Weinfest im Dorf — Mainz-Ebersheim
DTSTART:20260712T090000Z
DTEND:20260712T210000Z
DTSTAMP:20260421T042459Z
UID:kulvio-event-3268@kulvio.de
CATEGORIES:Tasting,Festival,Open-Air
CREATED:20260420T165427Z
DESCRIPTION:Das Weinfest im Dorf in Mainz-Ebersheim öffnet unter dem Mott
 o 'Hoftor auf!' die Innenhöfe und Weinkeller des traditionsreichen Winzer
 dorfs. Die Ebersheimer Winzer servieren ihre Weine direkt vor Ort\, beglei
 tet von deftiger Pfälzer Küche und Musik. Die Tradition reicht bis ins J
 ahr 1989 zurück\, der Weinanbau in Ebersheim sogar bis ins achte Jahrhund
 ert. Das Fest findet am zweiten Juli-Wochenende statt und bietet geführte
  Verkostungen.
GEO:49.913847;8.245315
LAST-MODIFIED:20260420T165930Z
LOCATION:Römerstraße 1\, 55127\, Mainz
STATUS:CONFIRMED
URL:https://kulvio.de/event/3268
END:VEVENT
END:VCALENDAR
