BEGIN:VCALENDAR
VERSION:2.0
PRODID:-//Kulvio Event Calendar//kulvio.de//
CALSCALE:GREGORIAN
METHOD:PUBLISH
BEGIN:VEVENT
SUMMARY:Eine Stunde History Live — Tulpenmanie
DTSTART:20260716T170000Z
DTEND:20260716T190000Z
DTSTAMP:20260421T041934Z
UID:kulvio-event-3270@kulvio.de
CATEGORIES:Vortrag
CREATED:20260420T165427Z
DESCRIPTION:Der Geschichtspodcast Eine Stunde History kommt als Live-Show 
 ins Haus Sindlingen in Frankfurt. Das Thema des Abends ist die Tulpenmanie
 \, der erste Börsencrash in Europa im Jahr 1637. Von 19 bis 21 Uhr erlebe
 n die Gäste einen unterhaltsamen und lehrreichen Vortrag über eines der 
 faszinierendsten Kapitel der Wirtschaftsgeschichte. Die Veranstaltung rich
 tet sich an alle Geschichtsinteressierten.
GEO:50.088002;8.512374
LAST-MODIFIED:20260420T165930Z
LOCATION:Haus Sindlingen\, Sindlinger Bahnstraße 124\, 65931\, Frankfurt 
 am Main
STATUS:CONFIRMED
URL:https://kulvio.de/event/3270
END:VEVENT
END:VCALENDAR
