BEGIN:VCALENDAR
VERSION:2.0
PRODID:-//Kulvio Event Calendar//kulvio.de//
CALSCALE:GREGORIAN
METHOD:PUBLISH
BEGIN:VEVENT
SUMMARY:Rebblütenfest Mainz-Laubenheim
DTSTART:20260717T160000Z
DTEND:20260717T210000Z
DTSTAMP:20260421T034509Z
UID:kulvio-event-3271@kulvio.de
CATEGORIES:Tasting,Festival,Open-Air
CREATED:20260420T165427Z
DESCRIPTION:Das Rebblütenfest in Mainz-Laubenheim feiert seine 50. Ausgab
 e in der gemütlichen Atmosphäre des Laubenheimer Parks. Die Mainzer Winz
 er aus Laubenheim schenken ihre Weine im Weindorf aus\, begleitet von Musi
 k und kulinarischem Angebot. Das Fest verbindet Tradition und Geselligkeit
  und gehört zu den beliebtesten Sommerfesten in den Mainzer Stadtteilen. 
 Der Eintritt ist frei.
GEO:49.960431;8.312008
LAST-MODIFIED:20260420T165930Z
LOCATION:Laubenheimer Park\, Im Brühl 6\, 55130\, Mainz
STATUS:CONFIRMED
URL:https://kulvio.de/event/3271
END:VEVENT
END:VCALENDAR
