BEGIN:VCALENDAR
VERSION:2.0
PRODID:-//Kulvio Event Calendar//kulvio.de//
CALSCALE:GREGORIAN
METHOD:PUBLISH
BEGIN:VEVENT
SUMMARY:Gudes Burger & Beats
DTSTART:20260718T110000Z
DTEND:20260718T200000Z
DTSTAMP:20260421T043148Z
UID:kulvio-event-3275@kulvio.de
CATEGORIES:Food-Festival,Party
CREATED:20260420T165427Z
DESCRIPTION:Beim sommerlichen Burger & Beats am Gudes Wasserhäuschen trif
 ft Street Food auf Musik unter freiem Himmel. An der Friedberger Landstra
 ße im Nordend gibt es saftige Burger und dazu legen DJs auf. Die Veransta
 ltung ist Teil der beliebten Gudes-Sommerreihe\, die das Frankfurter Wasse
 rhäuschen-Feeling mit kulinarischen Events verbindet. Der Sommerabend eig
 net sich für alle\, die gutes Essen und gute Beats in entspannter Atmosph
 äre genießen wollen.
GEO:50.125961;8.691164
LAST-MODIFIED:20260420T165930Z
LOCATION:Gudes\, Friedberger Landstraße 107\, 60318\, Frankfurt am Main
STATUS:CONFIRMED
URL:https://kulvio.de/event/3275
END:VEVENT
END:VCALENDAR
